Package: brendaDb Version: 1.21.0 Command: /Library/Frameworks/R.framework/Resources/bin/R CMD check --install=check:brendaDb.install-out.txt --library=/Library/Frameworks/R.framework/Resources/library --no-vignettes --timings brendaDb_1.21.0.tar.gz StartedAt: 2025-02-09 19:29:31 -0500 (Sun, 09 Feb 2025) EndedAt: 2025-02-09 19:31:10 -0500 (Sun, 09 Feb 2025) EllapsedTime: 99.0 seconds RetCode: 0 Status: OK CheckDir: brendaDb.Rcheck Warnings: 0