Package: brendaDb Version: 1.21.0 Command: /home/biocbuild/bbs-3.21-bioc/R/bin/R CMD check --install=check:brendaDb.install-out.txt --library=/home/biocbuild/bbs-3.21-bioc/R/site-library --timings brendaDb_1.21.0.tar.gz StartedAt: 2025-02-09 20:33:46 -0500 (Sun, 09 Feb 2025) EndedAt: 2025-02-09 20:35:02 -0500 (Sun, 09 Feb 2025) EllapsedTime: 75.1 seconds RetCode: 0 Status: OK CheckDir: brendaDb.Rcheck Warnings: 0