Package: brendaDb Version: 1.21.0 Command: /home/biocbuild/bbs-3.21-bioc/R/bin/R CMD INSTALL brendaDb StartedAt: 2025-02-04 15:08:09 -0500 (Tue, 04 Feb 2025) EndedAt: 2025-02-04 15:08:24 -0500 (Tue, 04 Feb 2025) EllapsedTime: 14.3 seconds RetCode: 0 Status: OK