Package: brendaDb Version: 1.21.0 Command: rm -rf brendaDb.buildbin-libdir && mkdir brendaDb.buildbin-libdir && E:\biocbuild\bbs-3.21-bioc\R\bin\R.exe CMD INSTALL --build --library=brendaDb.buildbin-libdir brendaDb_1.21.0.tar.gz StartedAt: 2025-02-10 07:20:55 -0500 (Mon, 10 Feb 2025) EndedAt: 2025-02-10 07:21:54 -0500 (Mon, 10 Feb 2025) EllapsedTime: 59.0 seconds RetCode: 0 Status: OK PackageFile: brendaDb_1.21.0.zip PackageFileSize: 1.064 MiB