Package: brendaDb Version: 1.21.0 Command: chmod a+r brendaDb -R && E:\biocbuild\bbs-3.21-bioc\R\bin\R.exe CMD build --keep-empty-dirs --no-resave-data brendaDb StartedAt: 2025-02-09 17:35:25 -0500 (Sun, 09 Feb 2025) EndedAt: 2025-02-09 17:36:44 -0500 (Sun, 09 Feb 2025) EllapsedTime: 79.0 seconds RetCode: 0 Status: OK PackageFile: brendaDb_1.21.0.tar.gz PackageFileSize: 651.1 KiB