Package: broadSeq Version: 1.1.0 Command: rm -rf broadSeq.buildbin-libdir && mkdir broadSeq.buildbin-libdir && /Users/biocbuild/BBS/utils/build-universal.sh broadSeq_1.1.0.tar.gz /Library/Frameworks/R.framework/Resources/bin/R broadSeq.buildbin-libdir StartedAt: 2025-02-09 22:07:57 -0500 (Sun, 09 Feb 2025) EndedAt: 2025-02-09 22:08:14 -0500 (Sun, 09 Feb 2025) EllapsedTime: 16.3 seconds RetCode: 0 Status: OK PackageFile: broadSeq_1.1.0.tgz PackageFileSize: 4.04 MiB