Package: broadSeq Version: 1.1.0 Command: /Library/Frameworks/R.framework/Resources/bin/R CMD INSTALL broadSeq StartedAt: 2025-02-04 15:28:07 -0500 (Tue, 04 Feb 2025) EndedAt: 2025-02-04 15:28:22 -0500 (Tue, 04 Feb 2025) EllapsedTime: 15.5 seconds RetCode: 0 Status: OK