Package: broadSeq Version: 1.1.0 Command: rm -rf broadSeq.buildbin-libdir && mkdir broadSeq.buildbin-libdir && /Users/biocbuild/BBS/utils/build-universal.sh broadSeq_1.1.0.tar.gz /Library/Frameworks/R.framework/Resources/bin/R broadSeq.buildbin-libdir StartedAt: 2025-02-13 00:27:52 -0500 (Thu, 13 Feb 2025) EndedAt: 2025-02-13 00:28:44 -0500 (Thu, 13 Feb 2025) EllapsedTime: 51.8 seconds RetCode: 0 Status: OK PackageFile: broadSeq_1.1.0.tgz PackageFileSize: 4.039 MiB