Package: broadSeq Version: 1.1.0 Command: /Library/Frameworks/R.framework/Resources/bin/R CMD build --keep-empty-dirs --no-resave-data broadSeq StartedAt: 2025-02-09 16:07:34 -0500 (Sun, 09 Feb 2025) EndedAt: 2025-02-09 16:09:48 -0500 (Sun, 09 Feb 2025) EllapsedTime: 134.3 seconds RetCode: 0 Status: OK PackageFile: broadSeq_1.1.0.tar.gz PackageFileSize: 4.053 MiB