Package: broadSeq Version: 1.1.0 Command: chmod a+r broadSeq -R && E:\biocbuild\bbs-3.21-bioc\R\bin\R.exe CMD build --keep-empty-dirs --no-resave-data broadSeq StartedAt: 2025-02-04 17:33:38 -0500 (Tue, 04 Feb 2025) EndedAt: 2025-02-04 17:36:49 -0500 (Tue, 04 Feb 2025) EllapsedTime: 191.5 seconds RetCode: 0 Status: OK PackageFile: broadSeq_1.1.0.tar.gz PackageFileSize: 2.943 MiB