Package: bumphunter Version: 1.49.0 Command: rm -rf bumphunter.buildbin-libdir && mkdir bumphunter.buildbin-libdir && /Users/biocbuild/BBS/utils/build-universal.sh bumphunter_1.49.0.tar.gz /Library/Frameworks/R.framework/Resources/bin/R bumphunter.buildbin-libdir StartedAt: 2025-02-09 22:08:03 -0500 (Sun, 09 Feb 2025) EndedAt: 2025-02-09 22:08:20 -0500 (Sun, 09 Feb 2025) EllapsedTime: 16.3 seconds RetCode: 0 Status: OK PackageFile: bumphunter_1.49.0.tgz PackageFileSize: 4.211 MiB