Package: bumphunter Version: 1.49.0 Command: /Library/Frameworks/R.framework/Resources/bin/R CMD build --keep-empty-dirs --no-resave-data bumphunter StartedAt: 2025-02-09 15:45:32 -0500 (Sun, 09 Feb 2025) EndedAt: 2025-02-09 15:45:53 -0500 (Sun, 09 Feb 2025) EllapsedTime: 20.2 seconds RetCode: 0 Status: OK PackageFile: bumphunter_1.49.0.tar.gz PackageFileSize: 2.365 MiB