Package: bumphunter Version: 1.49.0 Command: /Library/Frameworks/R.framework/Resources/bin/R CMD check --install=check:bumphunter.install-out.txt --library=/Library/Frameworks/R.framework/Resources/library --no-vignettes --timings bumphunter_1.49.0.tar.gz StartedAt: 2025-02-09 18:21:50 -0500 (Sun, 09 Feb 2025) EndedAt: 2025-02-09 18:25:03 -0500 (Sun, 09 Feb 2025) EllapsedTime: 193.3 seconds RetCode: 0 Status: OK CheckDir: bumphunter.Rcheck Warnings: 0