Package: bumphunter Version: 1.49.0 Command: /home/biocbuild/R/R/bin/R CMD build --keep-empty-dirs --no-resave-data bumphunter StartedAt: 2025-01-28 21:30:00 -0000 (Tue, 28 Jan 2025) EndedAt: 2025-01-28 21:31:05 -0000 (Tue, 28 Jan 2025) EllapsedTime: 65.0 seconds RetCode: 0 Status: OK PackageFile: bumphunter_1.49.0.tar.gz PackageFileSize: 2.367 MiB