Package: bumphunter Version: 1.49.0 Command: /home/biocbuild/R/R/bin/R CMD check --install=check:bumphunter.install-out.txt --library=/home/biocbuild/R/R/site-library --no-vignettes --timings bumphunter_1.49.0.tar.gz StartedAt: 2025-01-28 08:49:19 -0000 (Tue, 28 Jan 2025) EndedAt: 2025-01-28 09:00:37 -0000 (Tue, 28 Jan 2025) EllapsedTime: 677.5 seconds RetCode: 0 Status: OK CheckDir: bumphunter.Rcheck Warnings: 0