Package: bumphunter Version: 1.49.0 Command: /Library/Frameworks/R.framework/Resources/bin/R CMD build --keep-empty-dirs --no-resave-data bumphunter StartedAt: 2025-02-10 16:05:39 -0500 (Mon, 10 Feb 2025) EndedAt: 2025-02-10 16:06:29 -0500 (Mon, 10 Feb 2025) EllapsedTime: 50.2 seconds RetCode: 0 Status: OK PackageFile: bumphunter_1.49.0.tar.gz PackageFileSize: 2.365 MiB