Package: bumphunter Version: 1.49.0 Command: /Library/Frameworks/R.framework/Resources/bin/R CMD check --install=check:bumphunter.install-out.txt --library=/Library/Frameworks/R.framework/Resources/library --no-vignettes --timings bumphunter_1.49.0.tar.gz StartedAt: 2025-02-10 19:53:16 -0500 (Mon, 10 Feb 2025) EndedAt: 2025-02-10 20:01:22 -0500 (Mon, 10 Feb 2025) EllapsedTime: 485.8 seconds RetCode: 0 Status: OK CheckDir: bumphunter.Rcheck Warnings: 0