Package: bumphunter Version: 1.49.0 Command: /Library/Frameworks/R.framework/Resources/bin/R CMD INSTALL bumphunter StartedAt: 2025-02-10 15:18:38 -0500 (Mon, 10 Feb 2025) EndedAt: 2025-02-10 15:19:28 -0500 (Mon, 10 Feb 2025) EllapsedTime: 49.3 seconds RetCode: 0 Status: OK