Package: bumphunter Version: 1.49.0 Command: /home/biocbuild/bbs-3.21-bioc/R/bin/R CMD build --keep-empty-dirs --no-resave-data bumphunter StartedAt: 2025-02-09 16:29:16 -0500 (Sun, 09 Feb 2025) EndedAt: 2025-02-09 16:30:06 -0500 (Sun, 09 Feb 2025) EllapsedTime: 50.0 seconds RetCode: 0 Status: OK PackageFile: bumphunter_1.49.0.tar.gz PackageFileSize: 2.367 MiB