Package: bumphunter Version: 1.49.0 Command: rm -rf bumphunter.buildbin-libdir && mkdir bumphunter.buildbin-libdir && E:\biocbuild\bbs-3.21-bioc\R\bin\R.exe CMD INSTALL --build --library=bumphunter.buildbin-libdir bumphunter_1.49.0.tar.gz StartedAt: 2025-02-10 07:21:36 -0500 (Mon, 10 Feb 2025) EndedAt: 2025-02-10 07:22:24 -0500 (Mon, 10 Feb 2025) EllapsedTime: 48.0 seconds RetCode: 0 Status: OK PackageFile: bumphunter_1.49.0.zip PackageFileSize: 4.214 MiB