Package: bumphunter Version: 1.49.0 Command: E:\biocbuild\bbs-3.21-bioc\R\bin\R.exe CMD check --no-multiarch --install=check:bumphunter.install-out.txt --library=E:\biocbuild\bbs-3.21-bioc\R\library --no-vignettes --timings bumphunter_1.49.0.tar.gz StartedAt: 2025-02-09 23:16:24 -0500 (Sun, 09 Feb 2025) EndedAt: 2025-02-09 23:26:21 -0500 (Sun, 09 Feb 2025) EllapsedTime: 596.2 seconds RetCode: 0 Status: OK CheckDir: bumphunter.Rcheck Warnings: 0