Package: bumphunter Version: 1.49.0 Command: E:\biocbuild\bbs-3.21-bioc\R\bin\R.exe CMD INSTALL bumphunter StartedAt: 2025-02-09 16:27:12 -0500 (Sun, 09 Feb 2025) EndedAt: 2025-02-09 16:28:02 -0500 (Sun, 09 Feb 2025) EllapsedTime: 50.2 seconds RetCode: 0 Status: OK