Package: cTRAP Version: 1.25.0 Command: rm -rf cTRAP.buildbin-libdir && mkdir cTRAP.buildbin-libdir && /Users/biocbuild/BBS/utils/build-universal.sh cTRAP_1.25.0.tar.gz /Library/Frameworks/R.framework/Resources/bin/R cTRAP.buildbin-libdir StartedAt: 2025-02-03 22:46:52 -0500 (Mon, 03 Feb 2025) EndedAt: 2025-02-03 22:47:06 -0500 (Mon, 03 Feb 2025) EllapsedTime: 13.2 seconds RetCode: 0 Status: OK PackageFile: cTRAP_1.25.0.tgz PackageFileSize: 6.397 MiB