Package: cTRAP Version: 1.25.0 Command: /Library/Frameworks/R.framework/Resources/bin/R CMD build --keep-empty-dirs --no-resave-data cTRAP StartedAt: 2025-02-03 16:36:17 -0500 (Mon, 03 Feb 2025) EndedAt: 2025-02-03 16:38:38 -0500 (Mon, 03 Feb 2025) EllapsedTime: 141.6 seconds RetCode: 0 Status: OK PackageFile: cTRAP_1.25.0.tar.gz PackageFileSize: 5.298 MiB