Package: cTRAP Version: 1.25.0 Command: /Library/Frameworks/R.framework/Resources/bin/R CMD INSTALL cTRAP StartedAt: 2025-02-03 15:54:42 -0500 (Mon, 03 Feb 2025) EndedAt: 2025-02-03 15:54:54 -0500 (Mon, 03 Feb 2025) EllapsedTime: 12.2 seconds RetCode: 0 Status: OK