Package: cTRAP Version: 1.25.0 Command: /home/biocbuild/R/R/bin/R CMD build --keep-empty-dirs --no-resave-data cTRAP StartedAt: 2025-01-28 22:11:50 -0000 (Tue, 28 Jan 2025) EndedAt: 2025-01-28 22:12:57 -0000 (Tue, 28 Jan 2025) EllapsedTime: 67.0 seconds RetCode: 1 Status: ERROR PackageFile: None PackageFileSize: NA