############################################################################## ############################################################################## ### ### Running command: ### ### /home/biocbuild/R/R/bin/R CMD check --install=check:cTRAP.install-out.txt --library=/home/biocbuild/R/R/site-library --no-vignettes --timings cTRAP_1.25.0.tar.gz ### ############################################################################## ############################################################################## * using log directory ‘/home/biocbuild/bbs-3.21-bioc/meat/cTRAP.Rcheck’ * using R Under development (unstable) (2024-11-24 r87369) * using platform: aarch64-unknown-linux-gnu * R was compiled by aarch64-unknown-linux-gnu-gcc (GCC) 14.2.0 GNU Fortran (GCC) 14.2.0 * running under: openEuler 24.03 (LTS) * using session charset: UTF-8 * using option ‘--no-vignettes’ * checking for file ‘cTRAP/DESCRIPTION’ ... OK * this is package ‘cTRAP’ version ‘1.25.0’ * package encoding: UTF-8 * checking package namespace information ... OK * checking package dependencies ... INFO Imports includes 27 non-default packages. Importing from so many packages makes the package vulnerable to any of them becoming unavailable. Move as many as possible to Suggests and use conditionally. * checking if this is a source package ... OK * checking if there is a namespace ... OK * checking for hidden files and directories ... NOTE Found the following hidden files and directories: .devcontainer These were most likely included in error. See section ‘Package structure’ in the ‘Writing R Extensions’ manual. * checking for portable file names ... OK * checking for sufficient/correct file permissions ... OK * checking whether package ‘cTRAP’ can be installed ... OK * checking installed package size ... INFO installed size is 5.1Mb sub-directories of 1Mb or more: data 4.3Mb * checking package directory ... OK * checking DESCRIPTION meta-information ... NOTE License stub is invalid DCF. * checking top-level files ... OK * checking for left-over files ... OK * checking index information ... OK * checking package subdirectories ...Warning: program compiled against libxml 212 using older 211 OK * checking code files for non-ASCII characters ... OK * checking R files for syntax errors ... OK * checking whether the package can be loaded ... OK * checking whether the package can be loaded with stated dependencies ... OK * checking whether the package can be unloaded cleanly ... OK * checking whether the namespace can be loaded with stated dependencies ... OK * checking whether the namespace can be unloaded cleanly ... OK * checking loading without being on the library search path ... OK * checking dependencies in R code ... NOTE Warning: program compiled against libxml 212 using older 211 * checking S3 generic/method consistency ... OK * checking replacement functions ... OK * checking foreign function calls ... OK * checking R code for possible problems ... NOTE Found the following possibly unsafe calls: File ‘cTRAP/R/shinyInterface_session.R’: assignInNamespace("dataTablesFilter", dt_mod, "DT") plotComparison: no visible binding for global variable ‘.data’ plotMetricDistribution: no visible binding for global variable ‘.data’ plotSingleCorr: no visible binding for global variable ‘.data’ plotTargetingDrug: no visible binding for global variable ‘.data’ plotTargetingDrugsVSsimilarPerturbations: no visible binding for global variable ‘.data’ Undefined global functions or variables: .data * checking Rd files ... OK * checking Rd metadata ... OK * checking Rd cross-references ... OK * checking for missing documentation entries ... OK * checking for code/documentation mismatches ... OK * checking Rd \usage sections ... NOTE Documented arguments not in \usage in Rd file 'compareWithAllMethods.Rd': ‘rankByAscending’ Functions with \usage entries need to have the appropriate \alias entries, and all their arguments documented. The \usage entries must correspond to syntactically valid R code. See chapter ‘Writing R documentation files’ in the ‘Writing R Extensions’ manual. * checking Rd contents ... OK * checking for unstated dependencies in examples ... OK * checking contents of ‘data’ directory ... OK * checking data for non-ASCII characters ... OK * checking LazyData ... OK * checking data for ASCII and uncompressed saves ... OK * checking R/sysdata.rda ... OK * checking files in ‘vignettes’ ... OK * checking examples ... OK Examples with CPU (user + system) or elapsed time > 5s user system elapsed plotDrugSetEnrichment 264.939 0.190 265.809 plot.referenceComparison 27.518 0.243 27.822 convertGeneIdentifiers 19.808 1.171 31.593 analyseDrugSetEnrichment 18.066 0.825 68.606 plot.perturbationChanges 14.064 0.199 14.296 plotTargetingDrugsVSsimilarPerturbations 9.845 0.107 9.989 predictTargetingDrugs 7.939 0.072 8.032 filterCMapMetadata 7.829 0.177 19.329 prepareDrugSets 5.761 0.715 6.488 prepareCMapPerturbations 5.719 0.088 5.248 loadCMapData 4.121 0.037 7.175 downloadENCODEknockdownMetadata 1.660 0.281 68.511 * checking for unstated dependencies in ‘tests’ ... OK * checking tests ... Running ‘spelling.R’ Running ‘testthat.R’ OK * checking for unstated dependencies in vignettes ... OK * checking package vignettes ... OK * checking running R code from vignettes ... SKIPPED * checking re-building of vignette outputs ... SKIPPED * checking PDF version of manual ... OK * DONE Status: 5 NOTEs See ‘/home/biocbuild/bbs-3.21-bioc/meat/cTRAP.Rcheck/00check.log’ for details.