Package: cTRAP Version: 1.25.0 Command: /home/biocbuild/R/R/bin/R CMD check --install=check:cTRAP.install-out.txt --library=/home/biocbuild/R/R/site-library --no-vignettes --timings cTRAP_1.25.0.tar.gz StartedAt: 2025-01-28 09:37:11 -0000 (Tue, 28 Jan 2025) EndedAt: 2025-01-28 09:51:55 -0000 (Tue, 28 Jan 2025) EllapsedTime: 884.7 seconds RetCode: 0 Status: OK CheckDir: cTRAP.Rcheck Warnings: 0