Package: cTRAP Version: 1.25.0 Command: /Library/Frameworks/R.framework/Resources/bin/R CMD check --install=check:cTRAP.install-out.txt --library=/Library/Frameworks/R.framework/Resources/library --no-vignettes --timings cTRAP_1.25.0.tar.gz StartedAt: 2025-02-09 20:02:39 -0500 (Sun, 09 Feb 2025) EndedAt: 2025-02-09 20:14:51 -0500 (Sun, 09 Feb 2025) EllapsedTime: 732.4 seconds RetCode: 0 Status: OK CheckDir: cTRAP.Rcheck Warnings: 0