Package: cTRAP Version: 1.25.0 Command: /home/biocbuild/bbs-3.21-bioc/R/bin/R CMD build --keep-empty-dirs --no-resave-data cTRAP StartedAt: 2025-02-09 16:50:24 -0500 (Sun, 09 Feb 2025) EndedAt: 2025-02-09 16:53:34 -0500 (Sun, 09 Feb 2025) EllapsedTime: 189.3 seconds RetCode: 0 Status: OK PackageFile: cTRAP_1.25.0.tar.gz PackageFileSize: 5.151 MiB