Package: cTRAP Version: 1.25.0 Command: /home/biocbuild/bbs-3.21-bioc/R/bin/R CMD check --install=check:cTRAP.install-out.txt --library=/home/biocbuild/bbs-3.21-bioc/R/site-library --timings cTRAP_1.25.0.tar.gz StartedAt: 2025-02-09 21:20:33 -0500 (Sun, 09 Feb 2025) EndedAt: 2025-02-09 21:33:38 -0500 (Sun, 09 Feb 2025) EllapsedTime: 784.9 seconds RetCode: 0 Status: OK CheckDir: cTRAP.Rcheck Warnings: 0