Package: cTRAP Version: 1.25.0 Command: /home/biocbuild/bbs-3.21-bioc/R/bin/R CMD INSTALL cTRAP StartedAt: 2025-02-09 15:36:53 -0500 (Sun, 09 Feb 2025) EndedAt: 2025-02-09 15:37:22 -0500 (Sun, 09 Feb 2025) EllapsedTime: 29.2 seconds RetCode: 0 Status: OK