Package: cTRAP Version: 1.25.0 Command: rm -rf cTRAP.buildbin-libdir && mkdir cTRAP.buildbin-libdir && E:\biocbuild\bbs-3.21-bioc\R\bin\R.exe CMD INSTALL --build --library=cTRAP.buildbin-libdir cTRAP_1.25.0.tar.gz StartedAt: 2025-02-04 07:46:42 -0500 (Tue, 04 Feb 2025) EndedAt: 2025-02-04 07:47:41 -0500 (Tue, 04 Feb 2025) EllapsedTime: 58.6 seconds RetCode: 0 Status: OK PackageFile: cTRAP_1.25.0.zip PackageFileSize: 5.04 MiB