Package: cTRAP Version: 1.25.0 Command: chmod a+r cTRAP -R && E:\biocbuild\bbs-3.21-bioc\R\bin\R.exe CMD build --keep-empty-dirs --no-resave-data cTRAP StartedAt: 2025-02-03 18:19:54 -0500 (Mon, 03 Feb 2025) EndedAt: 2025-02-03 18:28:56 -0500 (Mon, 03 Feb 2025) EllapsedTime: 541.9 seconds RetCode: 0 Status: OK PackageFile: cTRAP_1.25.0.tar.gz PackageFileSize: 3.946 MiB