Package: cTRAP Version: 1.25.0 Command: E:\biocbuild\bbs-3.21-bioc\R\bin\R.exe CMD INSTALL cTRAP StartedAt: 2025-02-09 15:55:42 -0500 (Sun, 09 Feb 2025) EndedAt: 2025-02-09 15:56:45 -0500 (Sun, 09 Feb 2025) EllapsedTime: 62.9 seconds RetCode: 0 Status: OK