Package: cageminer Version: 1.13.0 Maintainer: Fabrício Almeida-Silva MaintainerEmail: fabricio_almeidasilva at hotmail.com git_url: https://git.bioconductor.org/packages/cageminer git_branch: devel git_last_commit: ce80090 git_last_commit_date: 2024-10-29 11:02:18 -0500 (Tue, 29 Oct 2024)