Package: cageminer Version: 1.13.0 Command: /Library/Frameworks/R.framework/Resources/bin/R CMD check --install=check:cageminer.install-out.txt --library=/Library/Frameworks/R.framework/Resources/library --no-vignettes --timings cageminer_1.13.0.tar.gz StartedAt: 2025-02-03 18:59:14 -0500 (Mon, 03 Feb 2025) EndedAt: 2025-02-03 19:02:00 -0500 (Mon, 03 Feb 2025) EllapsedTime: 165.9 seconds RetCode: 0 Status: OK CheckDir: cageminer.Rcheck Warnings: 0