Package: cageminer Version: 1.13.0 Command: /Library/Frameworks/R.framework/Resources/bin/R CMD INSTALL cageminer StartedAt: 2025-02-09 15:26:44 -0500 (Sun, 09 Feb 2025) EndedAt: 2025-02-09 15:27:06 -0500 (Sun, 09 Feb 2025) EllapsedTime: 22.1 seconds RetCode: 0 Status: OK