Package: cageminer Version: 1.13.0 Command: /home/biocbuild/R/R/bin/R CMD build --keep-empty-dirs --no-resave-data cageminer StartedAt: 2025-01-28 21:31:58 -0000 (Tue, 28 Jan 2025) EndedAt: 2025-01-28 21:35:24 -0000 (Tue, 28 Jan 2025) EllapsedTime: 206.1 seconds RetCode: 0 Status: OK PackageFile: cageminer_1.13.0.tar.gz PackageFileSize: 904.7 KiB