Package: cageminer Version: 1.13.0 Command: rm -rf cageminer.buildbin-libdir && mkdir cageminer.buildbin-libdir && /Users/biocbuild/BBS/utils/build-universal.sh cageminer_1.13.0.tar.gz /Library/Frameworks/R.framework/Resources/bin/R cageminer.buildbin-libdir StartedAt: 2025-02-04 00:25:41 -0500 (Tue, 04 Feb 2025) EndedAt: 2025-02-04 00:26:57 -0500 (Tue, 04 Feb 2025) EllapsedTime: 76.1 seconds RetCode: 0 Status: OK PackageFile: cageminer_1.13.0.tgz PackageFileSize: 1.448 MiB