Package: cageminer Version: 1.13.0 Command: /Library/Frameworks/R.framework/Resources/bin/R CMD build --keep-empty-dirs --no-resave-data cageminer StartedAt: 2025-02-09 16:08:49 -0500 (Sun, 09 Feb 2025) EndedAt: 2025-02-09 16:11:15 -0500 (Sun, 09 Feb 2025) EllapsedTime: 145.6 seconds RetCode: 0 Status: OK PackageFile: cageminer_1.13.0.tar.gz PackageFileSize: 1.416 MiB