Package: cageminer Version: 1.13.0 Command: /home/biocbuild/bbs-3.21-bioc/R/bin/R CMD build --keep-empty-dirs --no-resave-data cageminer StartedAt: 2025-02-09 16:30:20 -0500 (Sun, 09 Feb 2025) EndedAt: 2025-02-09 16:32:51 -0500 (Sun, 09 Feb 2025) EllapsedTime: 151.2 seconds RetCode: 0 Status: OK PackageFile: cageminer_1.13.0.tar.gz PackageFileSize: 1.289 MiB