Package: cageminer Version: 1.13.0 Command: rm -rf cageminer.buildbin-libdir && mkdir cageminer.buildbin-libdir && E:\biocbuild\bbs-3.21-bioc\R\bin\R.exe CMD INSTALL --build --library=cageminer.buildbin-libdir cageminer_1.13.0.tar.gz StartedAt: 2025-02-10 07:22:12 -0500 (Mon, 10 Feb 2025) EndedAt: 2025-02-10 07:23:19 -0500 (Mon, 10 Feb 2025) EllapsedTime: 66.9 seconds RetCode: 0 Status: OK PackageFile: cageminer_1.13.0.zip PackageFileSize: 916.1 KiB