Package: cageminer Version: 1.13.0 Command: E:\biocbuild\bbs-3.21-bioc\R\bin\R.exe CMD check --no-multiarch --install=check:cageminer.install-out.txt --library=E:\biocbuild\bbs-3.21-bioc\R\library --no-vignettes --timings cageminer_1.13.0.tar.gz StartedAt: 2025-02-09 23:19:40 -0500 (Sun, 09 Feb 2025) EndedAt: 2025-02-09 23:28:18 -0500 (Sun, 09 Feb 2025) EllapsedTime: 517.5 seconds RetCode: 0 Status: OK CheckDir: cageminer.Rcheck Warnings: 0