Package: cageminer Version: 1.13.0 Command: E:\biocbuild\bbs-3.21-bioc\R\bin\R.exe CMD INSTALL cageminer StartedAt: 2025-02-09 16:50:29 -0500 (Sun, 09 Feb 2025) EndedAt: 2025-02-09 16:51:33 -0500 (Sun, 09 Feb 2025) EllapsedTime: 64.0 seconds RetCode: 0 Status: OK