Package: calm Version: 1.21.0 Command: /Library/Frameworks/R.framework/Resources/bin/R CMD build --keep-empty-dirs --no-resave-data calm StartedAt: 2025-02-12 16:07:09 -0500 (Wed, 12 Feb 2025) EndedAt: 2025-02-12 16:09:24 -0500 (Wed, 12 Feb 2025) EllapsedTime: 135.1 seconds RetCode: 0 Status: OK PackageFile: calm_1.21.0.tar.gz PackageFileSize: 397.3 KiB