Package: calm Version: 1.21.0 Command: /Library/Frameworks/R.framework/Resources/bin/R CMD check --install=check:calm.install-out.txt --library=/Library/Frameworks/R.framework/Resources/library --no-vignettes --timings calm_1.21.0.tar.gz StartedAt: 2025-02-09 19:33:09 -0500 (Sun, 09 Feb 2025) EndedAt: 2025-02-09 19:34:37 -0500 (Sun, 09 Feb 2025) EllapsedTime: 88.0 seconds RetCode: 0 Status: OK CheckDir: calm.Rcheck Warnings: 0