Package: calm Version: 1.21.0 Command: /home/biocbuild/bbs-3.21-bioc/R/bin/R CMD build --keep-empty-dirs --no-resave-data calm StartedAt: 2025-02-12 16:27:04 -0500 (Wed, 12 Feb 2025) EndedAt: 2025-02-12 16:29:04 -0500 (Wed, 12 Feb 2025) EllapsedTime: 120.2 seconds RetCode: 0 Status: OK PackageFile: calm_1.21.0.tar.gz PackageFileSize: 394.2 KiB