Package: calm Version: 1.21.0 Command: /home/biocbuild/bbs-3.21-bioc/R/bin/R CMD INSTALL calm StartedAt: 2025-02-12 15:11:05 -0500 (Wed, 12 Feb 2025) EndedAt: 2025-02-12 15:11:11 -0500 (Wed, 12 Feb 2025) EllapsedTime: 5.1 seconds RetCode: 0 Status: OK