Package: calm Version: 1.21.0 Command: E:\biocbuild\bbs-3.21-bioc\R\bin\R.exe CMD INSTALL calm StartedAt: 2025-02-09 15:29:20 -0500 (Sun, 09 Feb 2025) EndedAt: 2025-02-09 15:29:36 -0500 (Sun, 09 Feb 2025) EllapsedTime: 16.0 seconds RetCode: 0 Status: OK